BEGIN:VCALENDAR
VERSION:2.0
PRODID:-//Colle Don Bosco - ECPv5.8.1//NONSGML v1.0//EN
CALSCALE:GREGORIAN
METHOD:PUBLISH
X-WR-CALNAME:Colle Don Bosco
X-ORIGINAL-URL:https://colledonbosco.org
X-WR-CALDESC:Eventi per Colle Don Bosco
BEGIN:VTIMEZONE
TZID:Europe/Rome
BEGIN:DAYLIGHT
TZOFFSETFROM:+0100
TZOFFSETTO:+0200
TZNAME:CEST
DTSTART:20230326T010000
END:DAYLIGHT
BEGIN:STANDARD
TZOFFSETFROM:+0200
TZOFFSETTO:+0100
TZNAME:CET
DTSTART:20231029T010000
END:STANDARD
END:VTIMEZONE
BEGIN:VEVENT
DTSTART;VALUE=DATE:20230225
DTEND;VALUE=DATE:20230226
DTSTAMP:20260421T021950
CREATED:20220729T133511Z
LAST-MODIFIED:20220729T133648Z
UID:31030-1677283200-1677369599@colledonbosco.org
SUMMARY:Savio Club (1° possibilità) - Colle don Bosco
DESCRIPTION:
URL:https://colledonbosco.org/event/savio-club-2023-feb/
LOCATION:Colle don Bosco\, Frazione Morialdo\, 30\, Castelnuovo Don Bosco AT\, 14022\, Italia
CATEGORIES:Ispettoriale
ATTACH;FMTTYPE=image/jpeg:https://colledonbosco.org/wp-content/uploads/2022/07/Banner_MGS_Calendari.jpeg
ORGANIZER;CN="Don%20Fabiano%20Gheller":MAILTO:fabiano.gheller@31gennaio.net
END:VEVENT
END:VCALENDAR