BEGIN:VCALENDAR
VERSION:2.0
PRODID:-//Colle Don Bosco - ECPv5.8.1//NONSGML v1.0//EN
CALSCALE:GREGORIAN
METHOD:PUBLISH
X-WR-CALNAME:Colle Don Bosco
X-ORIGINAL-URL:https://colledonbosco.org
X-WR-CALDESC:Eventi per Colle Don Bosco
BEGIN:VTIMEZONE
TZID:Europe/Rome
BEGIN:DAYLIGHT
TZOFFSETFROM:+0100
TZOFFSETTO:+0200
TZNAME:CEST
DTSTART:20220327T010000
END:DAYLIGHT
BEGIN:STANDARD
TZOFFSETFROM:+0200
TZOFFSETTO:+0100
TZNAME:CET
DTSTART:20221030T010000
END:STANDARD
END:VTIMEZONE
BEGIN:VEVENT
DTSTART;TZID=Europe/Rome:20221011T093000
DTEND;TZID=Europe/Rome:20221012T170000
DTSTAMP:20260421T071819
CREATED:20220729T143039Z
LAST-MODIFIED:20220729T143039Z
UID:31053-1665480600-1665594000@colledonbosco.org
SUMMARY:Servizio Civile - Formazione
DESCRIPTION:Formazione generale\nModuli formativi: Gestione dei conflitti e Relazioni interpersonali – Missione\, Obiettivi e Valori dei Salesiani di don Bosco – Legalità\nFormatori: IUSTO – ISTITUTO UNIVERSITARIO SALESIANO TORINO REBAUDENGO -Tiziana Patrevita e Paola Sanguedolce\, Rosanna Todisco\, d. Alberto Goia\, d. Fabiano Gheller\, Emiliano Somellini
URL:https://colledonbosco.org/event/servizio-civile-formazione-ott2022/
LOCATION:Colle don Bosco\, Frazione Morialdo\, 30\, Castelnuovo Don Bosco AT\, 14022\, Italia
CATEGORIES:Ispettoriale
ATTACH;FMTTYPE=image/jpeg:https://colledonbosco.org/wp-content/uploads/2022/07/Banner-Servizio-Civile.jpeg
ORGANIZER;CN="Rosanna%20Todisco":MAILTO:serviziocivile@salesianipiemonte.it
END:VEVENT
END:VCALENDAR