BEGIN:VCALENDAR
VERSION:2.0
PRODID:-//Colle Don Bosco - ECPv5.8.1//NONSGML v1.0//EN
CALSCALE:GREGORIAN
METHOD:PUBLISH
X-WR-CALNAME:Colle Don Bosco
X-ORIGINAL-URL:https://colledonbosco.org
X-WR-CALDESC:Eventi per Colle Don Bosco
BEGIN:VTIMEZONE
TZID:Europe/Rome
BEGIN:DAYLIGHT
TZOFFSETFROM:+0100
TZOFFSETTO:+0200
TZNAME:CEST
DTSTART:20210328T010000
END:DAYLIGHT
BEGIN:STANDARD
TZOFFSETFROM:+0200
TZOFFSETTO:+0100
TZNAME:CET
DTSTART:20211031T010000
END:STANDARD
END:VTIMEZONE
BEGIN:VEVENT
DTSTART;VALUE=DATE:20210507
DTEND;VALUE=DATE:20210508
DTSTAMP:20260422T042116
CREATED:20200827T080436Z
LAST-MODIFIED:20200827T080649Z
UID:30065-1620345600-1620431999@colledonbosco.org
SUMMARY:Festa medie al Colle don Bosco
DESCRIPTION:Al 14 maggio in caso di maltempo
URL:https://colledonbosco.org/event/festa-medie-al-colle-don-bosco/
LOCATION:Colle don Bosco\, Frazione Morialdo\, 30\, Castelnuovo Don Bosco AT\, 14022\, Italia
CATEGORIES:Ispettoriale
ORGANIZER;CN="Mauro%20Pace":MAILTO:preside@liceovalsalice.it
END:VEVENT
END:VCALENDAR